BEGIN:VCALENDAR
VERSION:2.0
PRODID:-//hacksw/handcal//NONSGML v1.0//EN
BEGIN:VEVENT
SUMMARY:3 jours SudOLux
UID:b54a32f2-1468-4b36-8c3d-db4da681a1ed
DTSTART:20260619T073000Z
DTEND:20260621T110000Z
LOCATION:Localisation   
CATEGORIES:Sportif
STATUS:
DESCRIPTION:<p><span style="font-size:16px;">3 jours de CO <a
 href="https://www.opunch.org/event/3675" target="_blank"
 rel="noreferrer noopener">toutes les infos
 ici</a></span></p>
 
 <p><span style="font-size:16px;">Dans la foret
 d'Anlier.</span></p>
URL;VALUE=URI:https://www.oscm08.com/evenements/2026/06/19/3-jours-sudolux-2443938
END:VEVENT
END:VCALENDAR
