BEGIN:VCALENDAR
VERSION:2.0
PRODID:-//hacksw/handcal//NONSGML v1.0//EN
BEGIN:VEVENT
SUMMARY:Longue distance Hautvillers
UID:5ee09b89-0cdf-409b-87e7-5644e6021345
DTSTART:20260614T073000Z
DTEND:20260614T103000Z
LOCATION:Localisation   
CATEGORIES:Sportif
STATUS:
DESCRIPTION:<p><a
 href="https://www.ffcorientation.fr/courses/agenda/103133/"
 target="_blank" rel="noreferrer noopener"><span
 style="font-size:16px;">Toutes les infos ici</span></a></p>
URL;VALUE=URI:https://www.oscm08.com/evenements/2026/06/14/longue-distance-hautvillers-2443951
END:VEVENT
END:VCALENDAR
