BEGIN:VCALENDAR
VERSION:2.0
PRODID:-//hacksw/handcal//NONSGML v1.0//EN
BEGIN:VEVENT
SUMMARY:Esch sur Sure
UID:5ad6878e-b282-4a16-b3c9-4e930c1055a9
DTSTART:20260531T073000Z
DTEND:20260531T100000Z
LOCATION:Localisation   
CATEGORIES:Sportif
STATUS:
DESCRIPTION:<p><a href="https://www.opunch.org/event/3780"
 target="_blank" rel="noreferrer noopener"><span
 style="font-size:16px;">Toutes les infos ici</span></a></p>
URL;VALUE=URI:https://www.oscm08.com/evenements/2026/05/31/esch-sur-sure-2443925
END:VEVENT
END:VCALENDAR
