BEGIN:VCALENDAR
VERSION:2.0
PRODID:-//hacksw/handcal//NONSGML v1.0//EN
BEGIN:VEVENT
SUMMARY:Chpt Ligue Relais
UID:9a771050-6f76-4918-bf8a-f285c0d88779
DTSTART:20260530T110000Z
DTEND:20260530T143000Z
LOCATION:Localisation   
CATEGORIES:Sportif
STATUS:
DESCRIPTION:<p><a
 href="https://www.ffcorientation.fr/courses/agenda/101469/"
 target="_blank" rel="noreferrer noopener"><span
 style="font-size:16px;">Toutes les infos ici</span></a></p>
URL;VALUE=URI:https://www.oscm08.com/evenements/2026/05/30/chpt-ligue-relais-2443948
END:VEVENT
END:VCALENDAR
